BEGIN:VCALENDAR
VERSION:2.0
PRODID:icalendar-ruby
CALSCALE:GREGORIAN
METHOD:PUBLISH
BEGIN:VEVENT
DTSTAMP:20260421T041735Z
UID:56-795736@avalonbaptistchurch.com
DTSTART:20261101T150000Z
DTEND:20261102T040000Z
CLASS:PUBLIC
CREATED:20260420T190202
DESCRIPTION:
LAST-MODIFIED:20260420T190202
LOCATION:Room Guides at Front Door
SUMMARY:Discovery Groups
URL;VALUE=URI:https://www.avalonbaptistchurch.com/events/discovery-groups/2
 026-11-01
END:VEVENT
END:VCALENDAR
