BEGIN:VCALENDAR
VERSION:2.0
PRODID:icalendar-ruby
CALSCALE:GREGORIAN
METHOD:PUBLISH
BEGIN:VEVENT
DTSTAMP:20260421T023555Z
UID:56-795735@avalonbaptistchurch.com
DTSTART:20261025T140000Z
DTEND:20261026T030000Z
CLASS:PUBLIC
CREATED:20260420T190202
DESCRIPTION:
LAST-MODIFIED:20260420T190202
LOCATION:Room Guides at Front Door
SUMMARY:Discovery Groups
URL;VALUE=URI:https://www.avalonbaptistchurch.com/events/discovery-groups/2
 026-10-25
END:VEVENT
END:VCALENDAR
