BEGIN:VCALENDAR
VERSION:2.0
PRODID:icalendar-ruby
CALSCALE:GREGORIAN
METHOD:PUBLISH
BEGIN:VEVENT
DTSTAMP:20260421T005937Z
UID:56-795734@avalonbaptistchurch.com
DTSTART:20261018T140000Z
DTEND:20261019T030000Z
CLASS:PUBLIC
CREATED:20260420T190202
DESCRIPTION:
LAST-MODIFIED:20260420T190202
LOCATION:Room Guides at Front Door
SUMMARY:Discovery Groups
URL;VALUE=URI:https://www.avalonbaptistchurch.com/events/discovery-groups/2
 026-10-18
END:VEVENT
END:VCALENDAR
