BEGIN:VCALENDAR
VERSION:2.0
PRODID:icalendar-ruby
CALSCALE:GREGORIAN
METHOD:PUBLISH
BEGIN:VEVENT
DTSTAMP:20260420T190632Z
UID:56-794357@avalonbaptistchurch.com
DTSTART:20260927T140000Z
DTEND:20260928T030000Z
CLASS:PUBLIC
CREATED:20260420T135054
DESCRIPTION:
LAST-MODIFIED:20260420T135054
LOCATION:Room Guides at Front Door
SUMMARY:Discovery Groups
URL;VALUE=URI:https://www.avalonbaptistchurch.com/events/discovery-groups/2
 026-09-27
END:VEVENT
END:VCALENDAR
