BEGIN:VCALENDAR
VERSION:2.0
PRODID:icalendar-ruby
CALSCALE:GREGORIAN
METHOD:PUBLISH
BEGIN:VEVENT
DTSTAMP:20260420T165801Z
UID:56-793669@avalonbaptistchurch.com
DTSTART:20260920T140000Z
DTEND:20260921T030000Z
CLASS:PUBLIC
CREATED:20260420T111641
DESCRIPTION:
LAST-MODIFIED:20260420T111641
LOCATION:Room Guides at Front Door
SUMMARY:Discovery Groups
URL;VALUE=URI:https://www.avalonbaptistchurch.com/events/discovery-groups/2
 026-09-20
END:VEVENT
END:VCALENDAR
